BEGIN:VCALENDAR
VERSION:2.0
PRODID:-//2ο Νηπιαγωγείο Χολαργού - ECPv5.12.4//NONSGML v1.0//EN
CALSCALE:GREGORIAN
METHOD:PUBLISH
X-WR-CALNAME:2ο Νηπιαγωγείο Χολαργού
X-ORIGINAL-URL:https://www.sg2niphol.gr
X-WR-CALDESC:2ο Νηπιαγωγείο Χολαργού - Εκδηλώσεις
REFRESH-INTERVAL;VALUE=DURATION:PT1H
X-Robots-Tag:noindex
X-PUBLISHED-TTL:PT1H
BEGIN:VTIMEZONE
TZID:UTC
BEGIN:STANDARD
TZOFFSETFROM:+0000
TZOFFSETTO:+0000
TZNAME:UTC
DTSTART:20220101T000000
END:STANDARD
END:VTIMEZONE
BEGIN:VEVENT
DTSTART;TZID=UTC:20221218T160000
DTEND;TZID=UTC:20221218T180000
DTSTAMP:20260425T152024
CREATED:20221211T110902Z
LAST-MODIFIED:20230109T102714Z
UID:1559-1671379200-1671386400@www.sg2niphol.gr
SUMMARY:Χριστουγεννιάτικη Γιορτή με καλικαντζαροδημιουργίες !
DESCRIPTION:Σας προσκαλούμε την Κυριακή\, 18 Δεκεμβρίου και ώρα 4:00 μ.μ. στη Χριστουγεννιάτικη παιδική γιορτή που διοργανώνει ο Σύλλογος Γονέων & Κηδεμόνων του 2ου Νηπιαγωγείου Χολαργού στην αίθουσα εκδηλώσεων του 2ου Γυμνασίου Χολαργού. \nΣτη γιορτή θα υπάρχουν εργαστήρια δραστηριοτήτων\, μουσική-χορός-μπουφές\, Χριστουγεννιάτικο bazaar διαμορφωμένο από τους μαθητές και φυσικά\, δε θα λείπει ο Άγιος Βασίλης ! \nΣας περιμένουμε με ανυπομονησία\, και είμαστε σίγουροι ότι όλοι μαζί\, μικροί-μεγάλοι\, θα κάνουμε τα μαγικά μας\, για να ξεκινήσουμε την όμορφη περίοδο των Χριστουγέννων με τον πιο χαρούμενο τρόπο! \nΏρα για έμπνευση και δημιουργία Καλικαντζαράκια! \nΜε εκτίμηση\, \nτο Δ.Σ. του Συλλόγου Γονέων & Κηδεμόνων 2ου Νηπ/γείου Χολαργού.
URL:https://www.sg2niphol.gr/event/%cf%87%cf%81%ce%b9%cf%83%cf%84%ce%bf%cf%85%ce%b3%ce%b5%ce%bd%ce%bd%ce%b9%ce%ac%cf%84%ce%b9%ce%ba%ce%b7-%ce%b3%ce%b9%ce%bf%cf%81%cf%84%ce%ae-%ce%bc%ce%b5-%ce%ba%ce%b1%ce%bb%ce%b9%ce%ba%ce%b1%ce%bd/
LOCATION:2ο Γυμνάσιο Χολαργού\, Αριστοτέλους 47\, Χολαργός\, Αττική\, 15562\, Ελλάδα
ATTACH;FMTTYPE=image/jpeg:https://www.sg2niphol.gr/wp-content/uploads/2022/12/-ΓΙΟΡΤΗ-18-12-22-1-e1670757084470.jpg
END:VEVENT
BEGIN:VEVENT
DTSTART;TZID=UTC:20230219T110000
DTEND;TZID=UTC:20230219T120000
DTSTAMP:20260425T152024
CREATED:20230208T162125Z
LAST-MODIFIED:20230208T163258Z
UID:1584-1676804400-1676808000@www.sg2niphol.gr
SUMMARY:Απόκριες με ΚΑΡΑΓΚΙΟΖΗ!
DESCRIPTION:Πριν από τη λαγάνα και το χαρταετό\, οι Απόκριες μας μαγεύουν και μας προσκαλούν σε χαρούμενους ρυθμούς!!! Γέλια και χορός\, με τον Καραγκιόζη οδηγό!! \nΕλάτε να γελάσουμε με τον Καραγκιόζη\, και να ξεγελάσουμε τους φίλους μας με τις αποκριάτικες ενδυμασίες μας!\n\n \nΤην Κυριακή 19 Φεβρουαρίου και ώρα 11 π.μ.  στην Αίθουσα Εκδηλώσεων του 2ου Λυκείου Χολαργού\, ο Καραγκιόζης μας περιμένει μεταμφιεσμένους για μία Αποκριάτικη παράσταση!\nΦορέστε τις μαγικές σας στολές\, μεταμφιέστε αδέλφια-φίλους-γονείς και ελάτε να διασκεδάσουμε!\n \nΕίσοδος: 5 ευρώ ανά παιδί\n\nΔεν υπάρχει χρέωση για το συνοδό. \n \nΔιοργάνωση: Σύλλογος Γονέων και Κηδεμόνων 2ου Νηπιαγωγείου Χολαργού\n\n \nΕκ μέρους του Δ.Σ. του Σ.Γ.&Κ. 2ου Νηπ/γείου Χολαργού
URL:https://www.sg2niphol.gr/event/%ce%b1%cf%80%cf%8c%ce%ba%cf%81%ce%b9%ce%b5%cf%82-%ce%bc%ce%b5-%ce%ba%ce%b1%cf%81%ce%b1%ce%b3%ce%ba%ce%b9%ce%bf%ce%b6%ce%b7/
LOCATION:2ο Λύκειο Χολαργού\, Καραολή και Δημητρίου\, Χολαργός\, Αττική\, 15562\, Ελλάδα
ATTACH;FMTTYPE=image/jpeg:https://www.sg2niphol.gr/wp-content/uploads/2023/02/Απόκριες-με-ΚΑΡΑΓΚΙΟΖΗ-1.jpg
END:VEVENT
END:VCALENDAR